BEGIN:VCALENDAR
VERSION:2.0
PRODID:-//hacksw/handcal//NONSGML v1.0//EN
BEGIN:VEVENT
SUMMARY:Stages Quickstep Plessis-Bouchard
UID:5c9e8c9d-8505-4c32-8d9f-480568bb8226
DTSTART:20260328T143000Z
DTEND:20260328T160000Z
LOCATION:Localisation gymnase alexopoulos, rue alexopoulos 95130 Plessis-Bouchard
CATEGORIES:Stage
STATUS:
URL;VALUE=URI:https://dansonsensemble.sportsregions.fr/evenements/2026/03/28/stages-quickstep-plessis-bouchard-2182727
END:VEVENT
END:VCALENDAR
